BEGIN:VCALENDAR
VERSION:2.0
PRODID:-//Greensboro History Museum - ECPv6.15.20//NONSGML v1.0//EN
CALSCALE:GREGORIAN
METHOD:PUBLISH
X-ORIGINAL-URL:https://greensborohistory.org
X-WR-CALDESC:Events for Greensboro History Museum
REFRESH-INTERVAL;VALUE=DURATION:PT1H
X-Robots-Tag:noindex
X-PUBLISHED-TTL:PT1H
BEGIN:VTIMEZONE
TZID:America/New_York
BEGIN:DAYLIGHT
TZOFFSETFROM:-0500
TZOFFSETTO:-0400
TZNAME:EDT
DTSTART:20230312T070000
END:DAYLIGHT
BEGIN:STANDARD
TZOFFSETFROM:-0400
TZOFFSETTO:-0500
TZNAME:EST
DTSTART:20231105T060000
END:STANDARD
BEGIN:DAYLIGHT
TZOFFSETFROM:-0500
TZOFFSETTO:-0400
TZNAME:EDT
DTSTART:20240310T070000
END:DAYLIGHT
BEGIN:STANDARD
TZOFFSETFROM:-0400
TZOFFSETTO:-0500
TZNAME:EST
DTSTART:20241103T060000
END:STANDARD
BEGIN:DAYLIGHT
TZOFFSETFROM:-0500
TZOFFSETTO:-0400
TZNAME:EDT
DTSTART:20250309T070000
END:DAYLIGHT
BEGIN:STANDARD
TZOFFSETFROM:-0400
TZOFFSETTO:-0500
TZNAME:EST
DTSTART:20251102T060000
END:STANDARD
END:VTIMEZONE
BEGIN:VEVENT
DTSTART;TZID=America/New_York:20240706T110000
DTEND;TZID=America/New_York:20240706T160000
DTSTAMP:20260420T051305
CREATED:20231221T020039Z
LAST-MODIFIED:20250624T142825Z
UID:2557-1720263600-1720281600@greensborohistory.org
SUMMARY:Forties Flashback Family Fun Day
DESCRIPTION:Sat. 7/6 11 am-4 pm\nDid you know that the Gate City was home to the largest urban military base in the country during World War II? Enjoy an afternoon of family fun exploring life in Greensboro in the 1940s with reenactors\, music\, games\, activities\, vintage vehicles\, ration book bake-off contest\, and more. Free!\nDon’t miss…\n\n\nWorld War II and Home Front reenactors highlighting training at and life around the Overseas Replacement Depot\n\nCostumed interpreters in the galleries telling stories from 1940s Greensboro\n\nHands-on activities\n\n\nScrap drive crafts with Reconsidered Goods\n\n\n Ration Book Bake Off contest- Directions and sign up here\n\n\n Flash Talks from local historians\, archivists\, and community members\n\n\nMovies and newsreels\n\n\nHot Dog Central and Scoop Zone food trucks\n\n\nFree event!\nBut wait\, there’s more…\nFree swing dance lessons with instructors from the Cat’s Pajamas in LeBauer Park\, 4-5:30 pm\nGHM After Hours: Swing Dance at the Service Club\, 6-9 pm\, with live music from Dexter Moses Quintet featuring vocalist Lillian Faith\, inspired cocktails for sale from GIA\, costume contest & more. Tickets on sale now!\n[button link=”https://GHMForties.eventbrite.com/?aff=website” color=”red”]Buy Tickets[/button] \nSponsors\nThanks to our After Hours Big Band Sponsor\, Bibey Machine Company. Sponsorship opportunities are still available. Click below to learn more.\n[button link=”http://weblink.donorperfect.com/1940sFlashback” color=”red”]See Opportunities Online[/button] or  [button link=”https://greensborohistory.org/wp-content/uploads/manuscripts/GHM-Flashback-2024-Sponsorship-Opportunities.pdf” color=”red”]Download Sponsorship Packet[/button] \n 
URL:https://greensborohistory.org/event/1940s-flashback/
LOCATION:Greensboro History Museum\, 130 Summit Ave.\, Greensboro\, NC\, 27401\, United States
CATEGORIES:At the Museum,Family Fun,Public Programs,Special Events
ATTACH;FMTTYPE=image/png:https://greensborohistory.org/wp-content/uploads/2025/05/1940s-Flashback-header-06_07_23.png
END:VEVENT
BEGIN:VEVENT
DTSTART;TZID=America/New_York:20240706T160000
DTEND;TZID=America/New_York:20240706T173000
DTSTAMP:20260420T051305
CREATED:20240603T200408Z
LAST-MODIFIED:20250523T022328Z
UID:2615-1720281600-1720287000@greensborohistory.org
SUMMARY:1940s Flashback Free Swing Dance Lessons in LeBauer Park
DESCRIPTION:Sat. 7/6 4 pm- 5:30 pm \nAfter the 1940s Flashback Fun\, swing on over to LeBauer Park for free swing dance lessons from instructors at the Cat’s Pajamas! \nYou’ll be ready to jump and jive at GHM After Hours: Swing Dance at the Service Club back at the museum\, 6-9 pm. Learn more at https://ghmforties.eventbrite.com/
URL:https://greensborohistory.org/event/1940s-flashback-free-swing-dance-lessons-in-lebauer-park/
LOCATION:LeBauer Park\, 208 N. Davie St\, Greensboro\, NC\, 27401\, United States
ATTACH;FMTTYPE=image/png:https://greensborohistory.org/wp-content/uploads/2025/05/June-2023-GHM-After-Hours-Facebook-Covers-3-e1717430638764.png
END:VEVENT
BEGIN:VEVENT
DTSTART;TZID=America/New_York:20240706T180000
DTEND;TZID=America/New_York:20240706T210000
DTSTAMP:20260420T051305
CREATED:20240501T205546Z
LAST-MODIFIED:20241004T020437Z
UID:2596-1720288800-1720299600@greensborohistory.org
SUMMARY:GHM After Hours: Swing Dance at the Service Club
DESCRIPTION:We’re ready to jump and jive again with a brand new edition of Swing Dance at the Service Club\, featuring hot tunes from the Dexter Moses Quartet featuring Lillian Faith\, cool beverages for sale from GIA\, costume contest\, and a whole lot more. \nTickets $30 ($25 for GHM Members) / Or join the Officers Club for $45. Tax and fees extra. Limited tickets on sale now at GHMForties.eventbrite.com \n[button link=”https://GHMForties.eventbrite.com”]Buy Tickets[/button] \nDoors 6 pm. Band starts 7 pm. \nTrain ahead of time with free Swing Dance Lessons 4-5:30 pm in LeBauer Park \nSaxophonist Dexter Moses\, originally from Richmond VA\, has performed with first-rate artists such as Branford Marsalis\, Delfeayo Marsalis and the Uptown Jazz Orchestra\, Nnenna Freelon\, Joey Calderazzo\, and many others. Lillian Faith is a gifted jazz and classical vocalist. They team up to produce music that stays true to the jazz dance tradition while reflecting life through sound. Both are alumni of North Carolina Central University’s prestigious jazz program. \n\n\nAnd don’t miss other free 1940s Flashback daytime family fun at the museum\, 11 am-4 pm. Find out more at https://greensborohm.wpengine.com/event/1940s-flashback
URL:https://greensborohistory.org/event/swing-dance-at-the-service-club-2024/
LOCATION:Greensboro History Museum\, 130 Summit Ave.\, Greensboro\, NC\, 27401\, United States
CATEGORIES:GHM After Hours,Happening at the Museum,Public Programs,x Project Democracy 20/20
ATTACH;FMTTYPE=image/jpeg:https://greensborohistory.org/wp-content/uploads/2024/10/June-2023-GHM-After-Hours-Facebook-Covers-2-e1716405786694.jpg
END:VEVENT
END:VCALENDAR