BEGIN:VCALENDAR
VERSION:2.0
PRODID:-//Greensboro History Museum - ECPv6.15.20//NONSGML v1.0//EN
CALSCALE:GREGORIAN
METHOD:PUBLISH
X-ORIGINAL-URL:https://greensborohistory.org
X-WR-CALDESC:Events for Greensboro History Museum
REFRESH-INTERVAL;VALUE=DURATION:PT1H
X-Robots-Tag:noindex
X-PUBLISHED-TTL:PT1H
BEGIN:VTIMEZONE
TZID:America/New_York
BEGIN:DAYLIGHT
TZOFFSETFROM:-0500
TZOFFSETTO:-0400
TZNAME:EDT
DTSTART:20170312T070000
END:DAYLIGHT
BEGIN:STANDARD
TZOFFSETFROM:-0400
TZOFFSETTO:-0500
TZNAME:EST
DTSTART:20171105T060000
END:STANDARD
BEGIN:DAYLIGHT
TZOFFSETFROM:-0500
TZOFFSETTO:-0400
TZNAME:EDT
DTSTART:20180311T070000
END:DAYLIGHT
BEGIN:STANDARD
TZOFFSETFROM:-0400
TZOFFSETTO:-0500
TZNAME:EST
DTSTART:20181104T060000
END:STANDARD
BEGIN:DAYLIGHT
TZOFFSETFROM:-0500
TZOFFSETTO:-0400
TZNAME:EDT
DTSTART:20190310T070000
END:DAYLIGHT
BEGIN:STANDARD
TZOFFSETFROM:-0400
TZOFFSETTO:-0500
TZNAME:EST
DTSTART:20191103T060000
END:STANDARD
BEGIN:DAYLIGHT
TZOFFSETFROM:-0500
TZOFFSETTO:-0400
TZNAME:EDT
DTSTART:20200308T070000
END:DAYLIGHT
BEGIN:STANDARD
TZOFFSETFROM:-0400
TZOFFSETTO:-0500
TZNAME:EST
DTSTART:20201101T060000
END:STANDARD
BEGIN:DAYLIGHT
TZOFFSETFROM:-0500
TZOFFSETTO:-0400
TZNAME:EDT
DTSTART:20210314T070000
END:DAYLIGHT
BEGIN:STANDARD
TZOFFSETFROM:-0400
TZOFFSETTO:-0500
TZNAME:EST
DTSTART:20211107T060000
END:STANDARD
BEGIN:DAYLIGHT
TZOFFSETFROM:-0500
TZOFFSETTO:-0400
TZNAME:EDT
DTSTART:20220313T070000
END:DAYLIGHT
BEGIN:STANDARD
TZOFFSETFROM:-0400
TZOFFSETTO:-0500
TZNAME:EST
DTSTART:20221106T060000
END:STANDARD
BEGIN:DAYLIGHT
TZOFFSETFROM:-0500
TZOFFSETTO:-0400
TZNAME:EDT
DTSTART:20230312T070000
END:DAYLIGHT
BEGIN:STANDARD
TZOFFSETFROM:-0400
TZOFFSETTO:-0500
TZNAME:EST
DTSTART:20231105T060000
END:STANDARD
END:VTIMEZONE
BEGIN:VEVENT
DTSTART;TZID=America/New_York:20221203T120000
DTEND;TZID=America/New_York:20221203T160000
DTSTAMP:20260420T055240
CREATED:20221104T193020Z
LAST-MODIFIED:20221104T193020Z
UID:2422-1670068800-1670083200@greensborohistory.org
SUMMARY:Holiday Parade Fun
DESCRIPTION:Come by the museum to warm up the whole family during and after the Downtown Greensboro Holiday Parade. \nThere will be fun crafts\, mice to hunt and a special visit from Santa from 2 to 4 pm!
URL:https://greensborohistory.org/event/holiday-parade-fun-2022/
CATEGORIES:Happening at the Museum,Public Programs,x Family Fun
ATTACH;FMTTYPE=image/png:https://greensborohistory.org/wp-content/uploads/2024/10/Holiday-Parade-Fun-Facebook-Event-Cover.png
END:VEVENT
BEGIN:VEVENT
DTSTART;TZID=America/New_York:20220212T130000
DTEND;TZID=America/New_York:20220212T160000
DTSTAMP:20260420T055240
CREATED:20220111T022530Z
LAST-MODIFIED:20220111T022530Z
UID:2282-1644670800-1644681600@greensborohistory.org
SUMMARY:Lifted Voices: African American History
DESCRIPTION:Costumed interpreters in the museum galleries share well-known and little-known stories of African Americans in Greensboro. \nLifted Voices is a series of living history programs that bring to life people and stories from Greensboro’s past. This is a free\, family-friendly program. Join us for history in first person.
URL:https://greensborohistory.org/event/lifted-voices-african-american-2022/
CATEGORIES:Happening at the Museum,Public Programs,x Family Fun
ATTACH;FMTTYPE=image/png:https://greensborohistory.org/wp-content/uploads/2024/10/LV-AfAm-2022-e1641849816639.png
END:VEVENT
BEGIN:VEVENT
DTSTART;TZID=America/New_York:20210619T160000
DTEND;TZID=America/New_York:20210619T170000
DTSTAMP:20260420T055240
CREATED:20210617T224813Z
LAST-MODIFIED:20210617T224813Z
UID:2226-1624118400-1624122000@greensborohistory.org
SUMMARY:Juneteenth Bingo
DESCRIPTION:Think you know African American history in North Carolina? Try your skill at Juneteenth Bingo\, hosted by Rodney Dawson and Catherine Johns. Answer questions\, fill in your card and win prizes! \nRegister on Zoom to play \n[button link=”https://us02web.zoom.us/meeting/register/tZYrdeCtrTouGtHUgtpGTQiPrrKD_a0ajIB0″]Register[/button] \nDownload GHM Juneteenth Bingo Cards \n[button link=”https://greensborohm.wpengine.com/wp-content/uploads/2021/06/GHM-Juneteenth-Bingo-Cards-2021.pdf”]Download[/button] \nPart of the City of Greensboro’s Juneteenth: A Day of Celebration and Remembrance.  Click here for more information
URL:https://greensborohistory.org/event/juneteenth-bingo-2021/
CATEGORIES:Happening at the Museum,Happening Online,Public Programs,x Family Fun
ATTACH;FMTTYPE=image/jpeg:https://greensborohistory.org/wp-content/uploads/2024/10/191731361_4036473349762514_5626011779328868040_n-e1623955721436.jpg
END:VEVENT
BEGIN:VEVENT
DTSTART;TZID=America/New_York:20190309T130000
DTEND;TZID=America/New_York:20190309T160000
DTSTAMP:20260420T055240
CREATED:20190226T222534Z
LAST-MODIFIED:20190226T222534Z
UID:1910-1552136400-1552147200@greensborohistory.org
SUMMARY:Lifted Voices: Greensboro Women Making Herstory
DESCRIPTION:From 1 to 4 pm\, costumed interpreters bring history to life by sharing Greensboro stories in first person. \nWomen portrayed in the museum galleries include Josephine Boyd\, the first African American student at Greensboro Senior High School; Nancy Mangum\, who wrote to the governor about food shortages during the Civil War; and Frances Jones Bonner\, a Bennett College basketball player who helped organize a movie theater boycott in the city in 1937; among other important Greensboro women from across the decades. \nThe program is free of charge and great for all ages
URL:https://greensborohistory.org/event/lifted-voices-greensboro-women-making-herstory-3/
CATEGORIES:Happening at the Museum,Public Programs,x Family Fun
ATTACH;FMTTYPE=image/jpeg:https://greensborohistory.org/wp-content/uploads/2024/10/Lifted-Voices-Women-e1551889006427.jpg
END:VEVENT
BEGIN:VEVENT
DTSTART;TZID=America/New_York:20181020T110000
DTEND;TZID=America/New_York:20181020T150000
DTSTAMP:20260420T055240
CREATED:20181016T225644Z
LAST-MODIFIED:20181016T225644Z
UID:1860-1540033200-1540047600@greensborohistory.org
SUMMARY:Exploring the Past through Archaeology
DESCRIPTION:Dig into history with hands-on activities for all ages. Meet archaeologists and discover the tools they use to uncover the past\, including remote sensing\, fossil casts and more. \nPresented with UNCG Archaeology Program
URL:https://greensborohistory.org/event/archaeology-day-2018/
CATEGORIES:Happening at the Museum,Public Programs,x Family Fun
ATTACH;FMTTYPE=image/jpeg:https://greensborohistory.org/wp-content/uploads/2024/10/Exploring-the-Past-converted-banner-e1539715926184.jpg
END:VEVENT
BEGIN:VEVENT
DTSTART;TZID=America/New_York:20180909T120000
DTEND;TZID=America/New_York:20180909T170000
DTSTAMP:20260420T055240
CREATED:20180901T004528Z
LAST-MODIFIED:20180901T004528Z
UID:1847-1536494400-1536512400@greensborohistory.org
SUMMARY:NC Folk Festival Family Fun Area
DESCRIPTION:The Greensboro History Museum is pleased to host the Inaugural North Carolina Folk Festival’s Family Fun Area in Mary Lynn Richardson Park Saturday–Sunday\, September 8–9\,  12–5 pm. \nJoin us and our library\, museum and arts partners for fun\, free\, hands-on activities for all ages. \nThe Museum will be open Saturday 10 am–5 pm and Sunday 12–5 pm during the Folk Festival.
URL:https://greensborohistory.org/event/nc-folk-festival-family-fun-area-2/
CATEGORIES:Happening at the Museum,Public Programs,x Family Fun
ATTACH;FMTTYPE=image/png:https://greensborohistory.org/wp-content/uploads/2024/10/NCFF-e1535748305730.png
END:VEVENT
END:VCALENDAR