BEGIN:VCALENDAR
VERSION:2.0
PRODID:-//Greensboro History Museum - ECPv6.15.20//NONSGML v1.0//EN
CALSCALE:GREGORIAN
METHOD:PUBLISH
X-WR-CALNAME:Greensboro History Museum
X-ORIGINAL-URL:https://greensborohistory.org
X-WR-CALDESC:Events for Greensboro History Museum
REFRESH-INTERVAL;VALUE=DURATION:PT1H
X-Robots-Tag:noindex
X-PUBLISHED-TTL:PT1H
BEGIN:VTIMEZONE
TZID:America/New_York
BEGIN:DAYLIGHT
TZOFFSETFROM:-0500
TZOFFSETTO:-0400
TZNAME:EDT
DTSTART:20240310T070000
END:DAYLIGHT
BEGIN:STANDARD
TZOFFSETFROM:-0400
TZOFFSETTO:-0500
TZNAME:EST
DTSTART:20241103T060000
END:STANDARD
BEGIN:DAYLIGHT
TZOFFSETFROM:-0500
TZOFFSETTO:-0400
TZNAME:EDT
DTSTART:20250309T070000
END:DAYLIGHT
BEGIN:STANDARD
TZOFFSETFROM:-0400
TZOFFSETTO:-0500
TZNAME:EST
DTSTART:20251102T060000
END:STANDARD
BEGIN:DAYLIGHT
TZOFFSETFROM:-0500
TZOFFSETTO:-0400
TZNAME:EDT
DTSTART:20260308T070000
END:DAYLIGHT
BEGIN:STANDARD
TZOFFSETFROM:-0400
TZOFFSETTO:-0500
TZNAME:EST
DTSTART:20261101T060000
END:STANDARD
END:VTIMEZONE
BEGIN:VEVENT
DTSTART;TZID=America/New_York:20250504T140000
DTEND;TZID=America/New_York:20250504T190000
DTSTAMP:20260420T050142
CREATED:20250221T014150Z
LAST-MODIFIED:20250523T022421Z
UID:4560-1746367200-1746385200@greensborohistory.org
SUMMARY:Traditions of the Triad: May Day in Mary Lynn Richardson Historic Park
DESCRIPTION:Sun. 5/04 2 pm- 7 pm \nSpecial hours plus tours\, games\, demonstrations and more in Mary Lynn Richardson Historic Park. \nVisit our historic buildings from the late 1700s\, including the Isley House and McNairy House. Try some colonial-era games. Make your own paper flowers to celebrate spring\, and more. \nIn coordination with Greensboro Food Truck Festival on Church Street. Free and fun for the whole family.
URL:https://greensborohistory.org/event/may-day-2025/
LOCATION:NC
CATEGORIES:At the Museum,Public Programs
ATTACH;FMTTYPE=image/png:https://greensborohistory.org/wp-content/uploads/2025/05/2025-05-04-May-Day-Flyer-1920-x-1080-px-e1746018369536.png
END:VEVENT
BEGIN:VEVENT
DTSTART;TZID=America/New_York:20250531T130000
DTEND;TZID=America/New_York:20250531T150000
DTSTAMP:20260420T050142
CREATED:20250512T235031Z
LAST-MODIFIED:20250523T055032Z
UID:2546-1748696400-1748703600@greensborohistory.org
SUMMARY:Little Lions Saturday
DESCRIPTION:Sat. 5/31 1 pm- 3 pm \nYoungsters and their families can drop by the museum from 1 to 3 pm on Saturday\, May 31st to celebrate the North Carolina Sports Hall of Fame with a fun children’s craft. \n 
URL:https://greensborohistory.org/event/11931-2/
LOCATION:Greensboro History Museum\, 130 Summit Ave.\, Greensboro\, NC\, 27401\, United States
CATEGORIES:At the Museum,Family Fun,Little Lions,Public Programs
ATTACH;FMTTYPE=image/png:https://greensborohistory.org/wp-content/uploads/2025/05/2025-Little-Lion-Saturday-Social-Media-Graphic-3-e1747079408746.png
END:VEVENT
END:VCALENDAR